BEGIN:VCALENDAR
VERSION:2.0
PRODID:-//eventon.com NONSGML v1.0//EN
BEGIN:VEVENT
UID:69e8a363e7ce1
DTSTAMP:20260422T123059
DTSTART:20260301T080000Z
DTEND:20260301T130000Z
LOCATION:Köln\,  Turnhalle KGS Vietorstraße 89\,  51103 Köln
SUMMARY:Kata-Lehrgang mit G. Karras
DESCRIPTION: Download Ausschreibung
END:VEVENT
END:VCALENDAR