BEGIN:VCALENDAR
VERSION:2.0
PRODID:-//eventon.com NONSGML v1.0//EN
BEGIN:VEVENT
UID:69e7379eab4ac
DTSTAMP:20260421T103854
DTSTART:20260517T070000Z
DTEND:20260517T160000Z
LOCATION:
SUMMARY:DKV-TAG 2026 - Jubiläum 50 Jahre DKV
DESCRIPTION: Frankfurt Ausschreibung siehe https://www.karate.de/de/termine/termine/Jubilaeums-DKV-TAG-50-Jahre-DKV-2026.php
END:VEVENT
END:VCALENDAR