BEGIN:VCALENDAR
VERSION:2.0
PRODID:-//eventon.com NONSGML v1.0//EN
BEGIN:VEVENT
UID:69e747a4a4748
DTSTAMP:20260421T114716
DTSTART:20260124T080000Z
DTEND:20260124T120000Z
LOCATION:Köln-Porz-Zündorf\,  Grundschule Schmittgasse Schmittgasse 66\,  51143 Köln
SUMMARY:SOK-Lehrgangsreihe Selbstverteidigung
DESCRIPTION: Anmeldung über https://karate.nrw/lub &nbsp;   SOK im KDNW                                                                                                                                                                                Landeslehrgang Selbstverteidigung                                                                                                &nbsp; Nächster Termin 24.01.2026 Zeit 10.00 Uhr bis 14.00 Uhr Ort Grundschule Köln-Porz-Zündorf Schmittgasse 66\,  51143 Köln Zugang über Houdainer Straße Lehrgangsgebühren Werden nicht erhoben – kostenfrei Ansprechpartner/Trainer Ludwig Binder – Tel.: 0163-6074483 Mail: L.Binder@KDNW.de / Ludwigbinder29@gmail.com Peter[..]
END:VEVENT
END:VCALENDAR