BEGIN:VCALENDAR
VERSION:2.0
PRODID:-//eventon.com NONSGML v1.0//EN
BEGIN:VEVENT
UID:69e9f3b1a7aa1
DTSTAMP:20260423T122553
DTSTART:20260124T080000Z
DTEND:20260124T110000Z
LOCATION:Dortmund – Hörde\,  Frenzelschule Entenpoth 34\,  44263 Dortmund
SUMMARY:Dananwärter:innen-Lehrgang
DESCRIPTION: Anmeldung über https://karate.nrw/lub &nbsp; Dananwärter:innen-Lehrgang Kosten: 20€ Teilnahme\,  Ziele/Inhalte Ab 1. Kyu\,  Bedeutung Dananwärter / Das Graduierungssystem - Kyugrade - Dangrade / Der Danträger / Die Grundlagen des DKV -Regelwerkes Bewertungskriterien Kata und Kumite für Leistungssport und Breitensport 2. Termin Samstag\,  24.01.2026\,  10:00 Uhr – 13:00 Uhr Leitung: Uwe Portugall Ort:[..]
END:VEVENT
END:VCALENDAR