BEGIN:VCALENDAR
VERSION:2.0
PRODID:-//eventon.com NONSGML v1.0//EN
BEGIN:VEVENT
UID:69e74d3a69def
DTSTAMP:20260421T121106
DTSTART:20260927T080000Z
DTEND:20260927T160000Z
LOCATION:(Ort wird noch bekannt gegeben) 
SUMMARY:Deutsche Meisterschaft U21
DESCRIPTION: Zeiten sind nur Platzhalter. Bitte Sportdata die exakten Informationen entnehmen. Sportdata folgt
END:VEVENT
END:VCALENDAR