BEGIN:VCALENDAR
VERSION:2.0
PRODID:-//eventon.com NONSGML v1.0//EN
BEGIN:VEVENT
UID:69e88d59ad6b3
DTSTAMP:20260422T105657
DTSTART:20260926T080000Z
DTEND:20260926T160000Z
LOCATION:(Ort wird noch bekannt gegeben) 
SUMMARY:Deutsche Meisterschaft Masterklasse + Bundesliga Playoffs
DESCRIPTION: Zeiten sind nur Platzhalter. Bitte Sportdata die exakten Informationen entnehmen. Sportdata folgt
END:VEVENT
END:VCALENDAR