BEGIN:VCALENDAR
VERSION:2.0
PRODID:-//eventon.com NONSGML v1.0//EN
BEGIN:VEVENT
UID:69e73a9053954
DTSTAMP:20260421T105128
DTSTART:20260620T080000Z
DTEND:20260620T160000Z
LOCATION:Riesa\,  WT Arena Am Sportzentrum 5\,  01589 Riesa
SUMMARY:Deutsche Meisterschaft Schüler:innen
DESCRIPTION: Zeiten sind nur Platzhalter. Bitte Sportdata die exakten Informationen entnehmen. Ort: Riesa\,  WT Arena Sportdata folgt
END:VEVENT
END:VCALENDAR