BEGIN:VCALENDAR
VERSION:2.0
PRODID:-//eventon.com NONSGML v1.0//EN
BEGIN:VEVENT
UID:69e4d21831ff1
DTSTAMP:20260419T150112
DTSTART:20260322T080000Z
DTEND:20260322T160000Z
LOCATION:Ingolstadt\,  Sporthalle TSV Ingolstadt-Nord Wirffelstraße 25\,  85055 Ingolstadt
SUMMARY:Bundesliga Hinrunde
DESCRIPTION: Zeiten sind nur Platzhalter. Bitte Sportdata die exakten Informationen entnehmen. Ort: Ingolstadt\,  Sporthalle TSV Ingolstadt-Nord Sportdata folgt
END:VEVENT
END:VCALENDAR