BEGIN:VCALENDAR
VERSION:2.0
PRODID:-//eventon.com NONSGML v1.0//EN
BEGIN:VEVENT
UID:69e62033c9fed
DTSTAMP:20260420T144643
DTSTART:20260509T080000Z
DTEND:20260509T160000Z
LOCATION:Köln\,  Gesamtschule Stresemannstraße Stresemannstraße 36\,  51149 Köln
SUMMARY:Cologne Open
DESCRIPTION: Zeiten sind nur Platzhalter. Bitte Sportdata die exakten Informationen entnehmen. Sportdata: https://www.sportdata.org/karate/set-online/veranstaltung_info_main.php?active_menu=calendar&vernr=9571#a_eventhead
END:VEVENT
END:VCALENDAR