BEGIN:VCALENDAR
VERSION:2.0
PRODID:-//eventon.com NONSGML v1.0//EN
BEGIN:VEVENT
UID:69e4d202b9807
DTSTAMP:20260419T150050
DTSTART:20260328T080000Z
DTEND:20260328T160000Z
LOCATION:(Ort wird noch bekannt gegeben) 
SUMMARY:Westerwald Cup
DESCRIPTION: Zeiten sind nur Platzhalter. Bitte Sportdata die exakten Informationen entnehmen. Sportdata folgt
END:VEVENT
END:VCALENDAR