BEGIN:VCALENDAR
VERSION:2.0
PRODID:-//eventon.com NONSGML v1.0//EN
BEGIN:VEVENT
UID:69e747a4d2d9a
DTSTAMP:20260421T114716
DTSTART:20261010T080000Z
DTEND:20261010T160000Z
LOCATION:(Ort wird noch bekannt gegeben) 
SUMMARY:KDNW Youth Cup
DESCRIPTION: Zeiten sind nur Platzhalter. Bitte Sportdata die exakten Informationen entnehmen. Sportdata folgt
END:VEVENT
END:VCALENDAR