BEGIN:VCALENDAR
VERSION:2.0
PRODID:-//eventon.com NONSGML v1.0//EN
BEGIN:VEVENT
UID:69e9ea180ba55
DTSTAMP:20260423T114456
DTSTART:20260221T080000Z
DTEND:20260221T160000Z
LOCATION:Erkrath\,  Gymnasium am Neandertal Heinrichstr. 12\,  40699 Erkrath
SUMMARY:Bezirksmeisterschaft Düsseldorf
DESCRIPTION: Zeiten sind nur Platzhalter. Bitte Sportdata die exakten Informationen entnehmen. Sportdata folgt
END:VEVENT
END:VCALENDAR