BEGIN:VCALENDAR
VERSION:2.0
PRODID:-//eventon.com NONSGML v1.0//EN
BEGIN:VEVENT
UID:69e74780343c8
DTSTAMP:20260421T114640
DTSTART:20260725T150000Z
DTEND:20260803T100000Z
LOCATION:Costa Brava\,  Spanien Nautic Almata Spanien
SUMMARY:AUSGEBUCHT: Karate Sommercamp in Spanien für Kids von 12 bis 17 Jahren
DESCRIPTION: AUSGEBUCHT Download Ausschreibung
END:VEVENT
END:VCALENDAR