BEGIN:VCALENDAR
VERSION:2.0
PRODID:-//eventon.com NONSGML v1.0//EN
BEGIN:VEVENT
UID:69e737ac02872
DTSTAMP:20260421T103908
DTSTART:20260718T080000Z
DTEND:20260718T123000Z
LOCATION:Duisburg\,  Sportschule Wedau Friedrich-Alfred-Allee 15\,  47055 Duisburg
SUMMARY:Trainer:innen- B – Ausbildung\,  Leistungssport - Teil 4 (Abschlussprüfung)
DESCRIPTION: Anmeldung über https://karate.nrw/lub Trainer:in -B- Leistungssport Ausbildung Die Tätigkeit des:der Trainer:in-B-Leistungssport umfasst die Planung\,  Organisation\,  Durchführung und Steuerung des systematischen Karate-Leistungstrainings in den Vereinen und den Landesverbänden des DKV. Sie beinhaltet die Weiterführung der leistungsorientierten Grundausbildung ins Aufbautraining bis hin zum Anschlusstraining im Wettkampfkarate. Ein weiterer Schwerpunkt ist die disziplinspezifische[..]
END:VEVENT
END:VCALENDAR