BEGIN:VCALENDAR
VERSION:2.0
PRODID:-//eventon.com NONSGML v1.0//EN
BEGIN:VEVENT
UID:69e8b8dc53cc9
DTSTAMP:20260422T140236
DTSTART:20261212T080000Z
DTEND:20261213T123000Z
LOCATION:Hachen\,  Sportschule Am Holthahn 1\,  59846 Sundern
SUMMARY:AUSGEBUCHT: Trainer:innen- C – Ausbildung\,  Breitensport (2. Ausbildung) - Teil 2
DESCRIPTION: AUSGEBUCHT 2. Trainer:innen- C – Ausbildung\,  Breitensport Detaillierte Ausschreibung folgt &nbsp; 2. Ausb. C-Trainer Breitensport WE 1 07.11.2026 08.11.2026 LSB Sportschule Hachen 2. Ausb. C-Trainer Breitensport WE 2 12.12.2026 13.12.2026 LSB Sportschule Hachen 2. Ausb. C-Trainer Breitensport WE 3 16.01.2027 17.01.2027 wahrscheinlich Hachen 2. Ausb. C-Trainer Breitensport WE 4 20.02.2027[..]
END:VEVENT
END:VCALENDAR