BEGIN:VCALENDAR
VERSION:2.0
PRODID:-//eventon.com NONSGML v1.0//EN
BEGIN:VEVENT
UID:69e74766eb253
DTSTAMP:20260421T114614
DTSTART:20260110T080000Z
DTEND:20260111T123000Z
LOCATION:Hachen\,  Sportschule Am Holthahn 1\,  59846 Sundern
SUMMARY:AUSGEBUCHT: Trainer:innen- C – Ausbildung\,  Breitensport (1. Ausbildung) - Teil 1
DESCRIPTION: Anmeldung über https://karate.nrw/lub 1. Trainer:innen- C – Ausbildung\,  Breitensport Ziele Die Tätigkeit des:der Trainer:in-C Breitensport umfasst die Anregung zur Betätigung im Karate als Freizeit- / Breitensport sowie die Planung\,  Organisation\,  Durchführung und Auswertung des breitensportlichen Karate-Übungsbetriebes in den Vereinen des Deutschen Karate-Verbandes. Der:die Trainer:in-C Breitensport soll in der Lage sein\, [..]
END:VEVENT
END:VCALENDAR