BEGIN:VCALENDAR
VERSION:2.0
PRODID:-//eventon.com NONSGML v1.0//EN
BEGIN:VEVENT
UID:69e61daeb7ac5
DTSTAMP:20260420T143558
DTSTART:20250920T060000Z
DTEND:20250920T180000Z
LOCATION:Puderbach Schulstraße\,  56305 Puderbach
SUMMARY:HBT-Cup
DESCRIPTION: Sportdata: https://www.sportdata.org/karate/set-online/veranstaltung_info_main.php?active_menu=calendar&vernr=9149#a_eventhead
END:VEVENT
END:VCALENDAR