BEGIN:VCALENDAR
VERSION:2.0
PRODID:-//eventon.com NONSGML v1.0//EN
BEGIN:VEVENT
UID:69e9dc4488265
DTSTAMP:20260423T104556
DTSTART:20250913T090000Z
DTEND:20250913T140000Z
LOCATION:Hamm\,  Sporthalle der Stephanusschule Herrenstrasse 12\,  59073 Hamm
SUMMARY:Shitoryu Prüfungsvorbereitungslehrgang und Wahl des/der Stilrichtungs- & Prüfungsreferent:in
DESCRIPTION: Download Ausschreibung
END:VEVENT
END:VCALENDAR