BEGIN:VCALENDAR
VERSION:2.0
PRODID:-//eventon.com NONSGML v1.0//EN
BEGIN:VEVENT
UID:69e9dc22b4b29
DTSTAMP:20260423T104522
DTSTART:20251025T120000Z
DTEND:20251026T120000Z
LOCATION:Düsseldorf\,  Sporthalle der Gemeinschaftsgrundschule Kronprinzenstraße Kronprinzenstr. 107\,  40217 Düsseldorf
SUMMARY:Okinawa-Kobudo Lehrgang
DESCRIPTION: Download Ausschreibung
END:VEVENT
END:VCALENDAR