BEGIN:VCALENDAR
VERSION:2.0
PRODID:-//eventon.com NONSGML v1.0//EN
BEGIN:VEVENT
UID:69e7357d9f18a
DTSTAMP:20260421T102949
DTSTART:20250830T073000Z
DTEND:20250830T160000Z
LOCATION:Bünde\,  BTW-Sporthallen Zum Freibad 21\,  32257 Bünde
SUMMARY:4. Bünder Karate-Festival
DESCRIPTION: Download Ausschreibung
END:VEVENT
END:VCALENDAR