BEGIN:VCALENDAR
VERSION:2.0
PRODID:-//eventon.com NONSGML v1.0//EN
BEGIN:VEVENT
UID:69e88d9f50ff9
DTSTAMP:20260422T105807
DTSTART:20250705T100000Z
DTEND:20250705T141500Z
LOCATION:Bonn\,  Hardtberghalle Gaußstr. 1\,  53125 Bonn
SUMMARY:Kata/Bunkai/SV-Lehrgang mit S. Wolf\,  L. Binder\,  K. Reichelt\,  M. Gutzmer
DESCRIPTION: Download Ausschreibung
END:VEVENT
END:VCALENDAR