BEGIN:VCALENDAR
VERSION:2.0
PRODID:-//eventon.com NONSGML v1.0//EN
BEGIN:VEVENT
UID:69e73586e10e3
DTSTAMP:20260421T102958
DTSTART:20250621T080000Z
DTEND:20250621T130000Z
LOCATION:Köln Kalk\,  Turnhalle Kath. Grundschule Vietorstraße 89\,  51103 Köln
SUMMARY:ABGESAGT: SOK-Landeslehrgang Selbstverteidigung
DESCRIPTION: Download Ausschreibung SOK im KDNW Landeslehrgang Selbstverteidigung                                                                                            Nächster Termin 21.06.2025 Zeit 10.00 Uhr bis 15.00 Uhr Ort Turnhalle Kath. Grundschule Vietorstraße 89\,  51103 Köln Lehrgangsgebühren Werden nicht erhoben – kostenfrei Ansprechpartner Ralf Vogt Erreichbar: Montag\,  Mittwoch und Freitag von 16.00 Uhr bis 17.00 Uhr Handy: 0172-1727411 Mail: ralf.vogt@bushido-koeln.de Ludwig Binder[..]
END:VEVENT
END:VCALENDAR