BEGIN:VCALENDAR
VERSION:2.0
PRODID:-//eventon.com NONSGML v1.0//EN
BEGIN:VEVENT
UID:69e735942b815
DTSTAMP:20260421T103012
DTSTART:20251122T120000Z
DTEND:20251122T140000Z
LOCATION:Bünde Zum Freibad 21\,  32257 Bünde
SUMMARY:ABGESAGT: Stilrichtungslehrgang Shotokan
DESCRIPTION: Stilrichtungslehrgang Shotokan Teilnahme: Shotokan-Karateka jeder Graduierung 11. Lehrgang\,  Inhalte Kata Unsu Termin\,  22.11.2025\,  14:00 Uhr – 16:00 Uhr Ort Zum Freibad 21\,  32257 Bünde Leitung Stefan Krause
END:VEVENT
END:VCALENDAR