BEGIN:VCALENDAR
VERSION:2.0
PRODID:-//eventon.com NONSGML v1.0//EN
BEGIN:VEVENT
UID:69e8a33b8d717
DTSTAMP:20260422T123019
DTSTART:20250803T090000Z
DTEND:20250803T110000Z
LOCATION:Bonn\,  Clara-Schumann-Gymnasium Loestraße 14\,  53113 Bonn
SUMMARY:Stilrichtungslehrgang Shotokan
DESCRIPTION: Stilrichtungslehrgang Shotokan Teilnahme: Shotokan-Karateka jeder Graduierung 8. Lehrgang\,  Inhalte Kata Gankaku Termin\,  03.08.2025\,  11:00 Uhr – 13:00 Uhr Ort Clara-Schumann-Gymnasium\,  Loestraße 14\,  53113 Bonn (Bonnertalweg 25 im Navi eingeben dort ist die Einfahrt zum Schulhof und Halle) Leitung Christian Karras
END:VEVENT
END:VCALENDAR