BEGIN:VCALENDAR
VERSION:2.0
PRODID:-//eventon.com NONSGML v1.0//EN
BEGIN:VEVENT
UID:69e9d9cb00268
DTSTAMP:20260423T103523
DTSTART:20250405T070000Z
DTEND:20250406T110000Z
LOCATION:Duisburg Huckingen Albert-Schweitzer-Straße 64\,  47259 Duisburg Huckingen
SUMMARY:9th International Traditional Karate Do Seminar
DESCRIPTION: Download Ausschreibung
END:VEVENT
END:VCALENDAR