BEGIN:VCALENDAR
VERSION:2.0
PRODID:-//eventon.com NONSGML v1.0//EN
BEGIN:VEVENT
UID:69e9d9fb94d7f
DTSTAMP:20260423T103611
DTSTART:20250222T080000Z
DTEND:20250222T120000Z
LOCATION:SKD Bad Salzuflen Hoffmannstr. 30\,  32105 Bad Salzuflen
SUMMARY:Prüfer:innen-Neuausbildung und Lizenzerweiterung Koshinkan
DESCRIPTION: Teilnahme: Koshinkan-Karateka\,  offen für alle Interessierte anderer Stile Detailinfos und Ausschreibung auf www.koshinkan.de unter „Aktivitäten“. &nbsp; Anmeldung unter https://karate.nrw/lub &nbsp; Lehrgang Prüfer:innen-Neuausbildung und Lizenzerweiterung Koshinkan Termin 22.02.2025 (genaue Zeit folgt) Ort SKD Bad Salzuflen\,  Hoffmannstr. 30\,  32105 Bad Salzuflen Leitung Peter Falk Kosten: 20\, - €\,  bitte überweisen
END:VEVENT
END:VCALENDAR