BEGIN:VCALENDAR
VERSION:2.0
PRODID:-//eventon.com NONSGML v1.0//EN
BEGIN:VEVENT
UID:69e735aec90c1
DTSTAMP:20260421T103038
DTSTART:20250223T090000Z
DTEND:20250223T110000Z
LOCATION:Bonn\,  Clara-Schumann-Gymnasium Loestraße 14\,  53113 Bonn
SUMMARY:Stilrichtungslehrgang Shotokan
DESCRIPTION: Stilrichtungslehrgang Shotokan Teilnahme: Shotokan-Karateka jeder Graduierung 4. Lehrgang\,  Inhalte Kata Unsu Termin\,  23.02.2025\,  11:00 Uhr – 13:00 Uhr Ort Clara-Schumann-Gymnasium\,  Loestraße 14\,  53113 Bonn (Bonnertalweg 25 im Navi eingeben dort ist die Einfahrt zum Schulhof und Halle) Leitung Georg Karras
END:VEVENT
END:VCALENDAR