BEGIN:VCALENDAR
VERSION:2.0
PRODID:-//eventon.com NONSGML v1.0//EN
BEGIN:VEVENT
UID:69e74d6af1e39
DTSTAMP:20260421T121154
DTSTART:20250222T120000Z
DTEND:20250222T140000Z
LOCATION:Lemgo\,  Sporthalle der Karla-Raveh Gesamtschule Vogelsang 31\,  32567 Lemgo
SUMMARY:Stilrichtungslehrgang Shotokan
DESCRIPTION: Stilrichtungslehrgang Shotokan Teilnahme: Shotokan-Karateka jeder Graduierung 3. Lehrgang\,  Inhalte Dynamische Flexibilität im Shotokan aus Kihon\,  Kata und Kumite Termin\,  22.02.2025\,  14:00 Uhr – 16:00 Uhr Ort Sporthalle der Karla-Raveh Gesamtschule\,  Vogelsang 31\,  32567 Lemgo Leitung Alexander Kröger
END:VEVENT
END:VCALENDAR