BEGIN:VCALENDAR
VERSION:2.0
PRODID:-//eventon.com NONSGML v1.0//EN
BEGIN:VEVENT
UID:69e9dc228fe68
DTSTAMP:20260423T104522
DTSTART:20250222T080000Z
DTEND:20250222T144500Z
LOCATION:Köln-Porz-Zündorf\,  Grundschule Schmittgasse Schmittgasse 66\,  51143 Köln
SUMMARY:Multiplikatorenausbildung Kobudo - Modul I
DESCRIPTION: Download Ausschreibung KDNW Multiplikatorenausbildung Kobudo 2025/2026 Nächster Termin 22.02.25 Zeit 10.00 Uhr bis ca.16.45 Uhr Ort Grundschule Köln-Porz-Zündorf Schmittgasse 66\,  51143 Köln Zugang über Houdainer Straße Lehrgangsgebühren 50\, 00 Euro je Modul Ansprechpartner Ludwig Binder – Tel.: 0163-6074483 Mail: L.Binder@KDNW.de / Ludwigbinder29@gmail.com Bernd Kopp – Tel.: 0151 28723220 Mail: kuro.obi@gmx.de Hinweis[..]
END:VEVENT
END:VCALENDAR