BEGIN:VCALENDAR
VERSION:2.0
PRODID:-//eventon.com NONSGML v1.0//EN
BEGIN:VEVENT
UID:69e9da532636a
DTSTAMP:20260423T103739
DTSTART:20251018T080000Z
DTEND:20251018T130000Z
LOCATION:Bonn\,  Finkenhofschule Ossietzkystr. 34\,  53123 Bonn
SUMMARY:2. Prüferlehrgang SOK
DESCRIPTION: Download Ausschreibung &nbsp; Einladung SOK Prüfertreffen &nbsp; Liebe Prüferinnen und Prüfer\,  zu diesjährigen zweiten Prüfertreffen lade ich Euch herzlich ein. Datum: 18.10.2025 Zeit:      10.00 Uhr – 15.00 Uhr Ort:       Gymnastikhalle der GGS Finkenhofschule\,  Ossietzkystraße 34\,  53123 Bonn &nbsp; Tagesordnung: Allgemeiner Teil Wahl Koordinator*in SOK sowie Vertreter*in (Tagesordnung siehe Anlage) Aktueller[..]
END:VEVENT
END:VCALENDAR