BEGIN:VCALENDAR
VERSION:2.0
PRODID:-//eventon.com NONSGML v1.0//EN
BEGIN:VEVENT
UID:69e7359d9cab1
DTSTAMP:20260421T103021
DTSTART:20250525T060000Z
DTEND:20250525T160000Z
LOCATION:Düren\,  Turnhalle des Burgau-Gymnasiums Karl Arnoldstr. 5\,  52349 Düren
SUMMARY:Bezirksmeisterschaft Köln
DESCRIPTION: Sportdata: https://www.sportdata.org/karate/set-online/veranstaltung_info_main.php?active_menu=calendar&vernr=8798#a_eventhead
END:VEVENT
END:VCALENDAR