BEGIN:VCALENDAR
VERSION:2.0
PRODID:-//eventon.com NONSGML v1.0//EN
BEGIN:VEVENT
UID:69e9deba3ca0d
DTSTAMP:20260423T105626
DTSTART:20250405T060000Z
DTEND:20250405T160000Z
LOCATION:Puderbach Schulstraße\,  56305 Puderbach
SUMMARY:Westerwald Cup
DESCRIPTION: Sportdata: https://www.sportdata.org/karate/set-online/veranstaltung_info_main.php?active_menu=calendar&vernr=8375#a_eventhead
END:VEVENT
END:VCALENDAR