BEGIN:VCALENDAR
VERSION:2.0
PRODID:-//eventon.com NONSGML v1.0//EN
BEGIN:VEVENT
UID:69e735a4cc0df
DTSTAMP:20260421T103028
DTSTART:20250215T073000Z
DTEND:20250215T133000Z
LOCATION:Köln-Porz-Zündorf\,  Grundschule Schmittgasse Schmittgasse 66\,  51143 Köln
SUMMARY:SV/Bunkai-Lehrgang mit L. Binder und C. Wedewardt
DESCRIPTION: Download Ausschreibung
END:VEVENT
END:VCALENDAR