BEGIN:VCALENDAR
VERSION:2.0
PRODID:-//eventon.com NONSGML v1.0//EN
BEGIN:VEVENT
UID:69e735c001c3f
DTSTAMP:20260421T103056
DTSTART:20250510T080000Z
DTEND:20250510T113000Z
LOCATION:Langenfeld\,  Bewegungszentrum Langfort Langforter Str. 72\,  40764 Langenfeld
SUMMARY:Goju-Ryu Lehrgang mit S. Tolo und M. Kudzia
DESCRIPTION: Download Ausschreibung
END:VEVENT
END:VCALENDAR