BEGIN:VCALENDAR
VERSION:2.0
PRODID:-//eventon.com NONSGML v1.0//EN
BEGIN:VEVENT
UID:69e9dea5a3cac
DTSTAMP:20260423T105605
DTSTART:20250215T120000Z
DTEND:20250215T140000Z
LOCATION:KD Gelsenkirchen-Buer Middelicher Str. 289\,  45892 Gelsenkirchen-Buer
SUMMARY:Stilrichtungslehrgang Shotokan
DESCRIPTION: Stilrichtungslehrgang Shotokan Teilnahme offen für alle 1. Lehrgang\,  Inhalte Vorbereitung 1. – 5. Dan Shotokan Termin 15.02.2025\,  14:00 Uhr – 16:00 Uhr Ort Middelicher Str. 289\,  Einfahrt über den Giselaweg\,  45892 Gelsenkirchen-Buer Leitung Rainer Katteluhn
END:VEVENT
END:VCALENDAR