BEGIN:VCALENDAR
VERSION:2.0
PRODID:-//eventon.com NONSGML v1.0//EN
BEGIN:VEVENT
UID:69e9da1c18bda
DTSTAMP:20260423T103644
DTSTART:20250503T080000Z
DTEND:20250503T120000Z
LOCATION:Düsseldorf\,  Turnhalle Brehmschule Karl - Müller - Straße\,   40237 Düsseldorf
SUMMARY:Stilrichtungslehrgang Wado-Ryu
DESCRIPTION: Stilrichtungslehrgang Wado-Ryu &nbsp; Teilnahme Dojo-Leiter:innen\,  Übungsleiter:innen\,  Dan-Träger:innen 1. Lehrgang\,  Inhalte Kata und Bunkai Termin Samstag 03.05.2025\,  10:00 Uhr bis 14.00 Uhr Leitung Peter Meuren\,  Derendorfer Str. 45\,  40479 Düsseldorf\,  Tel. 0211 - 44 29 69 Ort Turnhalle Brehmschule\,  Karl - Müller - Straße\,  40237 Düsseldorf &nbsp; &nbsp; Hinweis Da sich[..]
END:VEVENT
END:VCALENDAR