BEGIN:VCALENDAR
VERSION:2.0
PRODID:-//eventon.com NONSGML v1.0//EN
BEGIN:VEVENT
UID:69e9f0d96a3e6
DTSTAMP:20260423T121345
DTSTART:20250223T080000Z
DTEND:20250223T123000Z
LOCATION:Rheine\,  Sportpark des TV Jahn-Rheine 1885 e.V. Germanenallee 4\,  48429 Rheine
SUMMARY:Prüfer:innenlehrgang Goju-Ryu
DESCRIPTION: Anmeldung über https://karate.nrw/lub Prüfer:innenlehrgang Goju-Ryu Teilnahme Goju-Ryu Prüfer:innen und Neuanwärter:innen; Pflichtlehrgang. Inhalte Theorie: Verfahrensordnung\,  Bewertungskriterien\,  Erfahrungsaustausch Praxis: Kihon\,  Kata\,  Kata-Bunkai\,  Partnerformen &nbsp; 1. Lehrgang Termin: 23.02.2025\,  10:00 – 14:30 Uhr Leitung: Brigitte Kipke-Osterbrink\,  Frank Beeking Ort: Turnverein Jahn-Rheine 1885 e.V.\,  Germanenallee 4 (Navi: Kruppstr. von dort Beschilderung folgen)\,  48429 Rheine[..]
END:VEVENT
END:VCALENDAR