BEGIN:VCALENDAR
VERSION:2.0
PRODID:-//eventon.com NONSGML v1.0//EN
BEGIN:VEVENT
UID:69e75f7202294
DTSTAMP:20260421T132850
DTSTART:20250118T110000Z
DTEND:20250118T160000Z
LOCATION:TSC Eintracht Dortmund Victor-Toyka-Str. 6\,  44139 Dortmund
SUMMARY:KDNW-Trainer:innenmeeting 2025
DESCRIPTION: Anmeldung über https://karate.nrw/lub Download Ausschreibung Für alle Dojoleiter:innen\,  Trainer:innen\,  Übungsleiter:innen\,  Danträger:innen sowie Leistungssportler:innen. Das Trainermeeting soll dazu dienen\,  den Austausch untereinander zu fördern. Es steht nicht das Training im Vordergrund\,  sondern die Wissensvermittlung. Veranstalter Karate-Dachverband Nordrhein-Westfalen e.V. Ausrichter TSC Eintracht Dortmund Victor-Toyka-Str. 6\,  44139 Dortmund Termin 18.01.2025 Kosten 15\, -€ Lehrgangsgebühr[..]
END:VEVENT
END:VCALENDAR