BEGIN:VCALENDAR
VERSION:2.0
PRODID:-//eventon.com NONSGML v1.0//EN
BEGIN:VEVENT
UID:69e89174a33cb
DTSTAMP:20260422T111428
DTSTART:20241109T080000Z
DTEND:20241109T120000Z
LOCATION:Marl\,  Turnhalle der Overbergschule Ophoffstraße 27\,  45768 Marl
SUMMARY:Landeslehrgang SOK: Vorbereitungslehrgang für Danprüfungen
DESCRIPTION: Download Ausschreibung
END:VEVENT
END:VCALENDAR