BEGIN:VCALENDAR
VERSION:2.0
PRODID:-//eventon.com NONSGML v1.0//EN
BEGIN:VEVENT
UID:69e75f52a774e
DTSTAMP:20260421T132818
DTSTART:20241116T090000Z
DTEND:20241116T150000Z
LOCATION:Brühl\,  Polizei NRW Rheinstraße 200\,  50321 Brühl
SUMMARY:Interdisziplinärer Lehrgang: Aikido\,  Ju-Jutsu\,  Shotokan Karate
DESCRIPTION: Download Ausschreibung
END:VEVENT
END:VCALENDAR