BEGIN:VCALENDAR
VERSION:2.0
PRODID:-//eventon.com NONSGML v1.0//EN
BEGIN:VEVENT
UID:69e9d9ea5c57a
DTSTAMP:20260423T103554
DTSTART:20240831T080000Z
DTEND:20240831T160000Z
LOCATION:Dortmund\,  Hauptschule Kley Kleybredde 44\,  44149 Dortmund
SUMMARY:WGKF Karate Seminar
DESCRIPTION: Internationales Goju-Ryu Event im Vorfeld des WGKF-Cups in Österreich. Download Ausschreibung &nbsp; Die WGKF (World Goju-Ryu Karate Federation)\,  der GKD (Goju-Ryu Karate-Bund Deutschland) und die Dojos djk Oespel-Kley und Yuishinkan Dortmund laden herzlich nach Dortmund ein. Wir freuen uns\,  dass die internationalen Goju-Ryu Meister Pieter Harms 10. Dan Hanshi (Belgien)\, [..]
END:VEVENT
END:VCALENDAR