BEGIN:VCALENDAR
VERSION:2.0
PRODID:-//eventon.com NONSGML v1.0//EN
BEGIN:VEVENT
UID:69e7479fcde9a
DTSTAMP:20260421T114711
DTSTART:20240921T080000Z
DTEND:20240921T150000Z
LOCATION:Duisburg\,  Sportschule Wedau Friedrich-Alfred-Allee 15\,  47055 Duisburg
SUMMARY:ABGESAGT: KNDW-Tag
DESCRIPTION: Der KDNW-Tag am 21.09.2024 kann leider nicht stattfinden. Wir bitten um euer Verständnis. Bereits gezahlte Teilnahmegebühren werden natürlich erstattet. (ema)
END:VEVENT
END:VCALENDAR