BEGIN:VCALENDAR
VERSION:2.0
PRODID:-//eventon.com NONSGML v1.0//EN
BEGIN:VEVENT
UID:69e9f0da4fd63
DTSTAMP:20260423T121346
DTSTART:20240525T080000Z
DTEND:20240525T120000Z
LOCATION:Kall Auelstraße 47\,  53925 Kall
SUMMARY:SOK-Lehrgangsreihe Kobudo
DESCRIPTION: SOK im KDNW Lehrgangsreihe Kobudo &nbsp; Nächster Termin 25.05.2024 Zeit 10.00 Uhr bis 14.00 Uhr Ort Auelstraße 47\,  53925 Kall Lehrgangsgebühren Werden nicht erhoben – kostenfrei Ansprechpartner Ludwig Binder – Tel.: 0163-6074483 Mail: L.Binder@KDNW.de Ausrichter Udo Koch Shotokan Karate-Dojo Kall e. V. Hinweis Der Ausrichter übernimmt keine Haftung! Der Lehrgang[..]
END:VEVENT
END:VCALENDAR