BEGIN:VCALENDAR
VERSION:2.0
PRODID:-//eventon.com NONSGML v1.0//EN
BEGIN:VEVENT
UID:69e74d2e1b580
DTSTAMP:20260421T121054
DTSTART:20240629T080000Z
DTEND:20240629T143000Z
LOCATION:Bochum\,  Lohringhalle Lohring 20\,  44789 Bochum
SUMMARY:Shotokan-Tag im KDNW
DESCRIPTION: Download Ausschreibung
END:VEVENT
END:VCALENDAR