BEGIN:VCALENDAR
VERSION:2.0
PRODID:-//eventon.com NONSGML v1.0//EN
BEGIN:VEVENT
UID:69e8a37812a79
DTSTAMP:20260422T123120
DTSTART:20240402T140000Z
DTEND:20240404T110000Z
LOCATION:Rhein Berg Karate Bergisch Gladbach Britanniahütte 10\,  51469 Bergisch Gladbach
SUMMARY:Oster Kumite Camp
DESCRIPTION: Download Ausschreibung
END:VEVENT
END:VCALENDAR