BEGIN:VCALENDAR
VERSION:2.0
PRODID:-//eventon.com NONSGML v1.0//EN
BEGIN:VEVENT
UID:69e737b5b8d10
DTSTAMP:20260421T103917
DTSTART:20240323T080000Z
DTEND:20240323T120000Z
LOCATION:Köln-Porz-Zündorf\,  Grundschule Schmittgasse Schmittgasse 66\,  51143 Köln
SUMMARY:SOK-Lehrgangsreihe Selbstverteidigung
DESCRIPTION: Download Ausschreibung 23.03.2024 10:00-14:00 Uhr Grundschule Köln-Porz-Zündorf\,  Schmittgasse 66\,  51143 Köln Eingang über den Schulhof Houdainer Straße Themen: Lehrgangsreihe Selbstverteidigung Leitung: Ludwig Binder (L.Binder@KDNW.de / Ludwigbinder29@gmail.com) Lehrgangsgebühr: wird nicht erhoben – kostenfrei In unserer Lehrgangsreihe SV gehen wir die Aspekte der SV theoretisch und praktisch an. Jede Trainingseinheit hat einen[..]
END:VEVENT
END:VCALENDAR