BEGIN:VCALENDAR
VERSION:2.0
PRODID:-//eventon.com NONSGML v1.0//EN
BEGIN:VEVENT
UID:69e7357849f27
DTSTAMP:20260421T102944
DTSTART:20240510T173000Z
DTEND:20240511T053000Z
LOCATION:Krefeld-Zentrum Gartenstrasse 79\,  47798 Krefeld
SUMMARY:Krefelder Kata-Nacht
DESCRIPTION: Download Ausschreibung
END:VEVENT
END:VCALENDAR