BEGIN:VCALENDAR
VERSION:2.0
PRODID:-//eventon.com NONSGML v1.0//EN
BEGIN:VEVENT
UID:69e9de632c228
DTSTAMP:20260423T105459
DTSTART:20240413T080000Z
DTEND:20240413T110000Z
LOCATION:Köln\,  Sporthalle Westerwaldstraße Westerwaldstraße 92\,  51105 Köln
SUMMARY:Kata-Lehrgang mit G. Karras
DESCRIPTION: Download Ausschreibung &nbsp; Lehrgang mit Georg Karras Datum: 13. April 2024 Trainingszeiten: 10:00 – 11:15 Uhr ab 6. Kyu – Dan 11:30 – 12:45 Uhr ab 6. Kyu – Dan Lehrgangsgebühr 20€ Kyu-Prüfungen nur bei Prüfungsvoranmeldung: ralf.vogt@bushido-koeln.de Ausrichter: 1. Kölner Karate Club Bushido 1961 e.V. Ort: Turnhalle Georg-Simon-Ohm-Berufskolleg Westerwaldstraße 92\, [..]
END:VEVENT
END:VCALENDAR