BEGIN:VCALENDAR
VERSION:2.0
PRODID:-//eventon.com NONSGML v1.0//EN
BEGIN:VEVENT
UID:69e73a8c6d1a3
DTSTAMP:20260421T105124
DTSTART:20240406T080000Z
DTEND:20240406T200000Z
LOCATION:Koblenz\,  CGM-Arena Jupp-Gauchel-Str. 10\,  56075 Koblenz
SUMMARY:Rheinland-Pfalz Open / Krokoyama Cup
DESCRIPTION: Sportdata: https://www.sportdata.org/karate/set-online/veranstaltung_info_main.php?active_menu=calendar&vernr=7734#a_eventhead
END:VEVENT
END:VCALENDAR