BEGIN:VCALENDAR
VERSION:2.0
PRODID:-//eventon.com NONSGML v1.0//EN
BEGIN:VEVENT
UID:69e74b756c791
DTSTAMP:20260421T120333
DTSTART:20241006T080000Z
DTEND:20241006T123000Z
LOCATION:Rheine\,  Sportpark des TV Jahn-Rheine 1885 e.V. Germanenallee 4\,  48429 Rheine
SUMMARY:Stilrichtungslehrgang Goju-Ryu
DESCRIPTION: Stilrichtungslehrgang Goju-Ryu &nbsp; 6. Lehrgang Spezifika des Goju-Ryu am Beispiel von Kata-Passagen &nbsp; Termin 06.10.2024\,  10:00 Uhr bis 14:30 Uhr &nbsp; Leitung Brigitte Kipke-Osterbrink und Frank Beeking &nbsp; Ort Sportpark des TV Jahn-Rheine 1885 e.V.\,  Germanenallee 4 (Navi: Kruppstraße)\,  48429 Rheine
END:VEVENT
END:VCALENDAR